BEGIN:VCALENDAR
VERSION:2.0
PRODID:-//Solas Studio and Gallery - ECPv6.10.1.1//NONSGML v1.0//EN
CALSCALE:GREGORIAN
METHOD:PUBLISH
X-WR-CALNAME:Solas Studio and Gallery
X-ORIGINAL-URL:https://members.solas.studio
X-WR-CALDESC:Events for Solas Studio and Gallery
REFRESH-INTERVAL;VALUE=DURATION:PT1H
X-Robots-Tag:noindex
X-PUBLISHED-TTL:PT1H
BEGIN:VTIMEZONE
TZID:America/New_York
BEGIN:DAYLIGHT
TZOFFSETFROM:-0500
TZOFFSETTO:-0400
TZNAME:EDT
DTSTART:20260308T070000
END:DAYLIGHT
BEGIN:STANDARD
TZOFFSETFROM:-0400
TZOFFSETTO:-0500
TZNAME:EST
DTSTART:20261101T060000
END:STANDARD
END:VTIMEZONE
BEGIN:VEVENT
DTSTART;TZID=America/New_York:20260422T183000
DTEND;TZID=America/New_York:20260422T203000
DTSTAMP:20260419T211749
CREATED:20260319T232931Z
LAST-MODIFIED:20260413T230416Z
UID:3596-1776882600-1776889800@members.solas.studio
SUMMARY:Member Spotlight Night
DESCRIPTION:You don’t have access to this content.
URL:https://members.solas.studio/event/member-spotlight-night/
LOCATION:Solas Studio\, 117 East 24th Street #2nd Floor\, New York\, NY\, 10010\, United States
ATTACH;FMTTYPE=image/jpeg:https://members.solas.studio/solasmembers/wp-content/uploads/2026/03/4_22_Feature.jpg
ORGANIZER;CN="Solas Studio":MAILTO:hello@solas.studio
END:VEVENT
BEGIN:VEVENT
DTSTART;TZID=America/New_York:20260429T183000
DTEND;TZID=America/New_York:20260429T203000
DTSTAMP:20260419T211749
CREATED:20251028T215113Z
LAST-MODIFIED:20260414T163424Z
UID:2375-1777487400-1777494600@members.solas.studio
SUMMARY:Collage Night!
DESCRIPTION:You don’t have access to this content.
URL:https://members.solas.studio/event/collage-night/
LOCATION:Solas Studio\, 117 East 24th Street #2nd Floor\, New York\, NY\, 10010\, United States
ATTACH;FMTTYPE=image/jpeg:https://members.solas.studio/solasmembers/wp-content/uploads/2025/10/CollageNightAtSolas.jpeg
ORGANIZER;CN="Solas Studio":MAILTO:hello@solas.studio
END:VEVENT
BEGIN:VEVENT
DTSTART;TZID=America/New_York:20260506T180000
DTEND;TZID=America/New_York:20260608T203000
DTSTAMP:20260419T211749
CREATED:20260403T173832Z
LAST-MODIFIED:20260403T173832Z
UID:3683-1778090400-1780950600@members.solas.studio
SUMMARY:The Rites of Spring Opening Reception
DESCRIPTION:You don’t have access to this content.
URL:https://members.solas.studio/event/the-rites-of-spring-opening-reception/
LOCATION:Solas Studio\, 117 East 24th Street #2nd Floor\, New York\, NY\, 10010\, United States
ATTACH;FMTTYPE=image/jpeg:https://members.solas.studio/solasmembers/wp-content/uploads/2026/04/Solas_Hello_form_files_RitesOfSpring.69c18aef458422.52740626.jpg
ORGANIZER;CN="Solas Studio":MAILTO:hello@solas.studio
END:VEVENT
END:VCALENDAR